BEGIN:VCALENDAR
VERSION:2.0
PRODID:-//wp-events-plugin.com//7.2.3.1//EN
TZID:Australia/Perth
X-WR-TIMEZONE:Australia/Perth
BEGIN:VEVENT
UID:11@the500club.com.au
DTSTART;TZID=Australia/Perth:20260325T120000
DTEND;TZID=Australia/Perth:20260325T140000
DTSTAMP:20260226T023507Z
URL:https://www.the500club.com.au/events/basil-zempilas-a-vision-for-2026-
 luncheon-qa/
SUMMARY:Basil Zempilas - A Vision for 2026 – Luncheon & Q&A
DESCRIPTION:An exclusive invitation from The 500 Club to our members and gu
 ests - join us for a premium luncheon with Basil Zempilas in an intimate s
 etting at Miss Chow’s on the Terrace. Ticket prices include GST.
ATTACH;FMTTYPE=image/jpeg:https://www.the500club.com.au/wp-content/uploads
 /2026/01/Luncheon-Basil-Zemilas-scaled.jpg
CATEGORIES:Luncheon
LOCATION:Miss Chows on the Terrace\, 240 St Georges Terrace\, Perth\, WA\, 
 6000\, Australia
GEO:-31.952846;115.851503
X-APPLE-STRUCTURED-LOCATION;VALUE=URI;X-ADDRESS=240 St Georges Terrace\, Pe
 rth\, WA\, 6000\, Australia;X-APPLE-RADIUS=100;X-TITLE=Miss Chows on the T
 errace:geo:-31.952846,115.851503
END:VEVENT
BEGIN:VTIMEZONE
TZID:Australia/Perth
X-LIC-LOCATION:Australia/Perth
BEGIN:STANDARD
DTSTART:20250325T120000
TZOFFSETFROM:+0800
TZOFFSETTO:+0800
TZNAME:AWST
END:STANDARD
END:VTIMEZONE
END:VCALENDAR