BEGIN:VCALENDAR
VERSION:2.0
PRODID:-//wp-events-plugin.com//7.2.3.1//EN
TZID:Australia/Perth
X-WR-TIMEZONE:Australia/Perth
BEGIN:VEVENT
UID:19@the500club.com.au
DTSTART;TZID=Australia/Perth:20260611T173000
DTEND;TZID=Australia/Perth:20260611T200000
DTSTAMP:20260424T055412Z
URL:https://www.the500club.com.au/events/the-500-club-sundowner-proudly-sp
 onsored-by-lavan/
SUMMARY:The 500 Club Sundowner - Proudly Sponsored by Lavan
DESCRIPTION:The 500 Club invites members and guests to attend our next Sund
 owner proudly sponsored by Lavan on Thursday 11th June 2026.
ATTACH;FMTTYPE=image/jpeg:https://www.the500club.com.au/wp-content/uploads
 /2026/04/The-500-Club-Lavan-Sundowner-WEBSITE-June-2026-1937-x-2740-px.png
CATEGORIES:Sundowner
LOCATION:Lavan Offices\, Level 20\, 1 William Street \, Perth\, Western Aus
 tralia\, 6000\, Australia
GEO:-31.955708;115.855415
X-APPLE-STRUCTURED-LOCATION;VALUE=URI;X-ADDRESS=Level 20\, 1 William Street
  \, Perth\, Western Australia\, 6000\, Australia;X-APPLE-RADIUS=100;X-TITL
 E=Lavan Offices:geo:-31.955708,115.855415
END:VEVENT
BEGIN:VTIMEZONE
TZID:Australia/Perth
X-LIC-LOCATION:Australia/Perth
BEGIN:STANDARD
DTSTART:20250611T173000
TZOFFSETFROM:+0800
TZOFFSETTO:+0800
TZNAME:AWST
END:STANDARD
END:VTIMEZONE
END:VCALENDAR